BEGIN:VCALENDAR
VERSION:2.0
PRODID:-//ExpressionEngine Easy iCalendar plugin//NONSGML v2.0.0//EN
X-WR-TIMEZONE:America/Chicago
X-WR-CALNAME:Upcoming Auctions
BEGIN:VEVENT
UID:57358
DTSTAMP:20200627T090000
DTSTART:20200627T090000
DTEND:20200627T100000
SUMMARY:Antique Tractors & Large Toy Collection!
LOCATION:{location}
DESCRIPTION:A Large Collection (500+/-) of Toy Tractors\, Toy Implements\,
  Toy Semi’s\, Nascar & Others AND a extremely nice line of 
 restored farm tractors\, Case endloader\, trailers\, tools & mo
 re!
URL:https://www.greenrealestate-auction.com/auctions/detail/bw57
 358
SEQUENCE:1
END:VEVENT
END:VCALENDAR