BEGIN:VCALENDAR
VERSION:2.0
PRODID:-//ExpressionEngine Easy iCalendar plugin//NONSGML v2.0.1//EN
X-WR-TIMEZONE:America/Chicago
X-WR-CALNAME:Upcoming Auctions
BEGIN:VEVENT
UID:160836
DTSTAMP:20260421T090000
DTSTART:20260421T090000
DTEND:20260625T100000
SUMMARY:Sac County Land Auction!
LOCATION:{location}
DESCRIPTION:Schade Farm\, LLC: 122.98 net taxable acres in Section 23 of 
 Douglas Township that will be offered in 2 Parcels. Parcel A
  being the E1/2 and Parcel B being the W1/2. Full legal desc
 ription and net acres for each parcel coming soon! The aucti
 on will be held at the Sac County Fairgrounds. If you are pl
 anning to bid online you must register at least 48 hours in 
 advance in order to be approved to bid. 
URL:https://www.greenrealestate-auction.com/auctions/detail/bw16
 0836
SEQUENCE:1
END:VEVENT
END:VCALENDAR