BEGIN:VCALENDAR
VERSION:2.0
PRODID:-//ExpressionEngine Easy iCalendar plugin//NONSGML v2.0.0//EN
X-WR-TIMEZONE:America/Chicago
X-WR-CALNAME:Upcoming Auctions
BEGIN:VEVENT
UID:150565
DTSTAMP:20251022T100000
DTSTART:20251022T100000
DTEND:20251211T130000
SUMMARY:Sac County Online Only Land Auction!
LOCATION:{location}
DESCRIPTION:Ullrich/Schweers: 115.91 acres in Section 6 of Richland Town
 ship with an average CSR2 rating of 92.8. This will be an on
 line only auction that will utilize a soft close with auto e
 xtend. Any bid place in the last 2 minutes will automaticall
 y extend the time back to 2 minutes until all bidding has st
 opped. The sales price will be determined by the high bid ti
 mes 115.91
URL:https://www.greenrealestate-auction.com/auctions/detail/bw15
 0565
SEQUENCE:1
END:VEVENT
END:VCALENDAR